BEGIN:VCALENDAR
VERSION:2.0
PRODID:-//Plone.org//NONSGML plone.app.event//EN
X-WR-TIMEZONE:Europe/Berlin
BEGIN:VEVENT
SUMMARY:Beweglicher Ferientag (kein Unterricht)
DTSTART;VALUE=DATE:20260515
DTEND;VALUE=DATE:20260516
DTSTAMP;VALUE=DATE-TIME:20260419T165813Z
UID:1e4f7c7bf7f94c349b7ab0ec44e21e03@www.avh-in-viernheim.de
CREATED;VALUE=DATE-TIME:20260303T073802Z
LAST-MODIFIED;VALUE=DATE-TIME:20260303T073817Z
URL:https://www.avh-in-viernheim.de/events/beweglicher-ferientag-kein-unte
 rricht-10
END:VEVENT
END:VCALENDAR
