BEGIN:VCALENDAR
VERSION:2.0
PRODID:-//Plone.org//NONSGML plone.app.event//EN
X-WR-TIMEZONE:Europe/Berlin
BEGIN:VEVENT
SUMMARY:Studientag für Hauptschule/Realschule
DTSTART;VALUE=DATE:20211207
DTEND;VALUE=DATE:20211208
DTSTAMP;VALUE=DATE-TIME:20260422T104907Z
UID:ef98c3fc5ef04cd6983f7e37ca2adead@www.avh-in-viernheim.de
CREATED;VALUE=DATE-TIME:20211027T175843Z
LAST-MODIFIED;VALUE=DATE-TIME:20211027T175856Z
URL:https://www.avh-in-viernheim.de/events/studientag-fuer-hauptschule-rea
 lschule
END:VEVENT
END:VCALENDAR
