BEGIN:VCALENDAR
VERSION:2.0
PRODID:-//Plone.org//NONSGML plone.app.event//EN
X-WR-TIMEZONE:Europe/Berlin
BEGIN:VEVENT
SUMMARY:Tag der Arbeit (Feiertag)
DTSTART;VALUE=DATE:20260501
DTEND;VALUE=DATE:20260502
DTSTAMP;VALUE=DATE-TIME:20260419T151355Z
UID:6b224f25e95d42b88397c406c4d69fa5@www.avh-in-viernheim.de
CREATED;VALUE=DATE-TIME:20260303T073310Z
LAST-MODIFIED;VALUE=DATE-TIME:20260303T073321Z
URL:https://www.avh-in-viernheim.de/events/tag-der-arbeit-feiertag-3
END:VEVENT
END:VCALENDAR
